BEGIN:VCALENDAR
VERSION:2.0
PRODID:-//hacksw/handcal//NONSGML v1.0//EN
BEGIN:VEVENT
DTSTART:20260510T100000Z
DTEND:20260510T130000Z
LOCATION:Madrid
ORGANIZER;CN=Kenzo MODILOT:MAILTO:kenzo.modilot@icn-artem.com
SUMMARY:ICN BS/ Alumni meetup - Casablanca (Copie)
DESCRIPTION:🎓 ALUMNI MEETUP – MADRID\n🎓 ALUMNI MEETUP – MADRID\nAre you an ICN graduate based in Madrid?\nJoin us for a friendly brunch and a great opportunity to reconnect!\nChristine Kratz, Director of Programs...
URL:https://www.icngraduates.com/en/event/icn-bs-alumni-meetup-casablanca-copie/2026/05/10/41
BEGIN:VALARM
TRIGGER:-P0DT1H0M0S
ACTION:DISPLAY
END:VALARM
END:VEVENT
END:VCALENDAR