BEGIN:VCALENDAR
VERSION:2.0
PRODID:-//hacksw/handcal//NONSGML v1.0//EN
BEGIN:VEVENT
DTSTART:20260510T100000Z
DTEND:20260510T130000Z
LOCATION:Madrid
ORGANIZER;CN=Kenzo MODILOT:MAILTO:kenzo.modilot@icn-artem.com
SUMMARY:ICN BS/ Alumni meetup - Madrid
DESCRIPTION:🎓ALUMNI MEETUP - MADRID\nVous êtes diplômé ICN à Madrid ?\nRejoignez-nous pour un moment convivial autour d’un brunch !\nChristine Kratz, Directrice des Programmes d’ICN Business School, a le plaisir ...
URL:https://www.icngraduates.com/fr/event/icn-bs-alumni-meetup-madrid/2026/05/10/41
BEGIN:VALARM
TRIGGER:-P0DT1H0M0S
ACTION:DISPLAY
END:VALARM
END:VEVENT
END:VCALENDAR